BEGIN:VCALENDAR
VERSION:2.0
PRODID:-//eventon.com NONSGML v1.0//EN
CALSCALE:GREGORIAN
METHOD:PUBLISH
BEGIN:VEVENT
UID:69e740f10f29e
DTSTAMP:20260421T091841Z
DTSTART:20250225T080000Z
DTEND:20250225T133000Z
LOCATION:
SUMMARY:Bremer Schulschachmeisterschaften WK M
DESCRIPTION:Bremer Schulschachmeisterschaften WK M\nhttps://schachnewslette
 r-bremen.de/events/bremer-schulschachmeisterschaften-wk-m/
URL:https://schachnewsletter-bremen.de/events/bremer-schulschachmeisterschaften-wk-m/
END:VEVENT
END:VCALENDAR