BEGIN:VCALENDAR
VERSION:2.0
PRODID:-//eventon.com NONSGML v1.0//EN
CALSCALE:GREGORIAN
METHOD:PUBLISH
BEGIN:VEVENT
UID:69e9ef432f8e4
DTSTAMP:20260423T100659Z
DTSTART:20250416T143000Z
DTEND:20250419T163000Z
LOCATION:
SUMMARY:39. Äskulap-Open in Görlitz
DESCRIPTION:39. Äskulap-Open in Görlitz\nhttps://schachnewsletter-bremen.
 de/events/39-aeskulap-open-in-goerlitz/
URL:https://schachnewsletter-bremen.de/events/39-aeskulap-open-in-goerlitz/
END:VEVENT
END:VCALENDAR