BEGIN:VCALENDAR
VERSION:2.0
PRODID:-//eventon.com NONSGML v1.0//EN
CALSCALE:GREGORIAN
METHOD:PUBLISH
BEGIN:VEVENT
UID:69e740e3cae80
DTSTAMP:20260421T091827Z
DTSTART:20250412T110000Z
DTEND:20250413T170000Z
LOCATION:
SUMMARY:Regionales Kinderschachturnier (RKST) in Dortmund
DESCRIPTION:Regionales Kinderschachturnier (RKST) in Dortmund\nhttps://scha
 chnewsletter-bremen.de/events/regionales-kinderschachturnier-rkst-in-dortmu
 nd/
URL:https://schachnewsletter-bremen.de/events/regionales-kinderschachturnier-rkst-in-dortmund/
END:VEVENT
END:VCALENDAR