BEGIN:VCALENDAR
VERSION:2.0
PRODID:-//eventon.com NONSGML v1.0//EN
CALSCALE:GREGORIAN
METHOD:PUBLISH
BEGIN:VEVENT
UID:69ebb01025ef2
DTSTAMP:20260424T180152Z
DTSTART:20250228T180000Z
DTEND:20250302T190000Z
LOCATION:
SUMMARY:2. ChessGeeks Winter - Special in Rödinghausen
DESCRIPTION:2. ChessGeeks Winter - Special in Rödinghausen\nhttps://schach
 newsletter-bremen.de/events/2-chessgeekswinter-special-in-roedinghausen/
URL:https://schachnewsletter-bremen.de/events/2-chessgeekswinter-special-in-roedinghausen/
END:VEVENT
END:VCALENDAR