BEGIN:VCALENDAR
VERSION:2.0
PRODID:-//eventon.com NONSGML v1.0//EN
CALSCALE:GREGORIAN
METHOD:PUBLISH
BEGIN:VEVENT
UID:69ebe552912fc
DTSTAMP:20260424T214906Z
DTSTART:20250707T160000Z
DTEND:20250713T170000Z
LOCATION:
SUMMARY:Jubiläumsturnier 5 Jahre KSV Rochade Braunschweig (Save the date)
DESCRIPTION:Jubiläumsturnier 5 Jahre KSV Rochade Braunschweig (Save the da
 te)\nhttps://schachnewsletter-bremen.de/events/jubilaeumsturnier-5-jahre-ks
 v-rochade-braunschweig/
URL:https://schachnewsletter-bremen.de/events/jubilaeumsturnier-5-jahre-ksv-rochade-braunschweig/
END:VEVENT
END:VCALENDAR