BEGIN:VCALENDAR
VERSION:2.0
PRODID:-//eventon.com NONSGML v1.0//EN
CALSCALE:GREGORIAN
METHOD:PUBLISH
BEGIN:VEVENT
UID:69e741db98f00
DTSTAMP:20260421T092235Z
DTSTART:20250417T160000Z
DTEND:20250421T190000Z
LOCATION:
SUMMARY:Grenke Chess-Open
DESCRIPTION:Grenke Chess-Open\nhttps://schachnewsletter-bremen.de/events/gr
 enke-chess-open/
URL:https://schachnewsletter-bremen.de/events/grenke-chess-open/
END:VEVENT
END:VCALENDAR