BEGIN:VCALENDAR
VERSION:2.0
PRODID:-//eventon.com NONSGML v1.0//EN
CALSCALE:GREGORIAN
METHOD:PUBLISH
BEGIN:VEVENT
UID:69e742017dd9f
DTSTAMP:20260421T092313Z
DTSTART:20260507T173000Z
DTEND:20260507T200000Z
LOCATION:
SUMMARY:Schnellschach-Grandprix-Serie 2025-2026 in Bremen
DESCRIPTION:Turnier 5/5\nhttps://schachnewsletter-bremen.de/events/schnells
 chach-grandprix-serie-2025-2026-in-bremen-5/
URL:https://schachnewsletter-bremen.de/events/schnellschach-grandprix-serie-2025-2026-in-bremen-5/
END:VEVENT
END:VCALENDAR