BEGIN:VCALENDAR
VERSION:2.0
PRODID:-//eventon.com NONSGML v1.0//EN
CALSCALE:GREGORIAN
METHOD:PUBLISH
BEGIN:VEVENT
UID:69e7415564b9e
DTSTAMP:20260421T092021Z
DTSTART:20251115T130000Z
DTEND:20251116T160000Z
LOCATION:
SUMMARY:3. BERLIN U25 OPEN -Schnellschach
DESCRIPTION:3. BERLIN U25 OPEN -Schnellschach\nhttps://schachnewsletter-bre
 men.de/events/3-berlin-u25-open-schnellschach/
URL:https://schachnewsletter-bremen.de/events/3-berlin-u25-open-schnellschach/
END:VEVENT
END:VCALENDAR