BEGIN:VCALENDAR
VERSION:2.0
PRODID:-//eventon.com NONSGML v1.0//EN
CALSCALE:GREGORIAN
METHOD:PUBLISH
BEGIN:VEVENT
UID:69e740794a3ab
DTSTAMP:20260421T091641Z
DTSTART:20260704T080000Z
DTEND:20260704T183000Z
LOCATION:
SUMMARY:Mädchen- und Frauenschachwochenende Lehrte - DWZ-Turnier
DESCRIPTION:Mädchen- und Frauenschachwochenende Lehrte - DWZ-Turnier\nhttp
 s://schachnewsletter-bremen.de/events/maedchen-und-frauenschachwochenende-l
 ehrte-dwz-turnier-2/
URL:https://schachnewsletter-bremen.de/events/maedchen-und-frauenschachwochenende-lehrte-dwz-turnier-2/
END:VEVENT
END:VCALENDAR