BEGIN:VCALENDAR
VERSION:2.0
PRODID:-//eventon.com NONSGML v1.0//EN
CALSCALE:GREGORIAN
METHOD:PUBLISH
BEGIN:VEVENT
UID:69e7419f9969d
DTSTAMP:20260421T092135Z
DTSTART:20260705T080000Z
DTEND:20260705T140000Z
LOCATION:
SUMMARY:Mädchen- und Frauenschachwochenende Lehrte - Schnellschach-Turnier
DESCRIPTION:Mädchen- und Frauenschachwochenende Lehrte - Schnellschach-Tur
 nier\nhttps://schachnewsletter-bremen.de/events/maedchen-und-frauenschachwo
 chenende-lehrte-schnellschach-turnier/
URL:https://schachnewsletter-bremen.de/events/maedchen-und-frauenschachwochenende-lehrte-schnellschach-turnier/
END:VEVENT
END:VCALENDAR