BEGIN:VCALENDAR
VERSION:2.0
PRODID:-//eventon.com NONSGML v1.0//EN
CALSCALE:GREGORIAN
METHOD:PUBLISH
BEGIN:VEVENT
UID:69e740fdac554
DTSTAMP:20260421T091853Z
DTSTART:20260430T160000Z
DTEND:20260503T160000Z
LOCATION:
SUMMARY:Deutsche Schach-Amateur-Meisterschaft - Qualifikationsturnier 25/26 in Magdeburg
DESCRIPTION:Deutsche Schach-Amateur-Meisterschaft - Qualifikationsturnier 2
 5/26 in Magdeburg\nhttps://schachnewsletter-bremen.de/events/deutsche-schac
 h-amateur-meisterschaft-qualifikationsturnier-25-26-in-magdeburg/
URL:https://schachnewsletter-bremen.de/events/deutsche-schach-amateur-meisterschaft-qualifikationsturnier-25-26-in-magdeburg/
END:VEVENT
END:VCALENDAR