BEGIN:VCALENDAR
VERSION:2.0
PRODID:-//eventon.com NONSGML v1.0//EN
CALSCALE:GREGORIAN
METHOD:PUBLISH
BEGIN:VEVENT
UID:69e741cc86b6f
DTSTAMP:20260421T092220Z
DTSTART:20260809T080000Z
DTEND:20260815T140000Z
LOCATION:
SUMMARY:DSJ-Sommercamp in Rosdorf-Dahlenrode
DESCRIPTION:DSJ-Sommercamp in Rosdorf-Dahlenrode\nhttps://schachnewsletter-
 bremen.de/events/dsj-sommercamp-in-rosdorf-dahlenrode-2/
URL:https://schachnewsletter-bremen.de/events/dsj-sommercamp-in-rosdorf-dahlenrode-2/
END:VEVENT
END:VCALENDAR