BEGIN:VCALENDAR
VERSION:2.0
PRODID:-//eventon.com NONSGML v1.0//EN
CALSCALE:GREGORIAN
METHOD:PUBLISH
BEGIN:VEVENT
UID:69e7408294426
DTSTAMP:20260421T091650Z
DTSTART:20251221T080000Z
DTEND:20251221T160000Z
LOCATION:
SUMMARY:DWZ-Cup Wilstermarsch und Itzehoe
DESCRIPTION:DWZ-Cup Wilstermarsch und Itzehoe\nhttps://schachnewsletter-bre
 men.de/events/dwz-cup-wilstermarsch-und-itzehoe/
URL:https://schachnewsletter-bremen.de/events/dwz-cup-wilstermarsch-und-itzehoe/
END:VEVENT
END:VCALENDAR