BEGIN:VCALENDAR
VERSION:2.0
PRODID:-//eventon.com NONSGML v1.0//EN
CALSCALE:GREGORIAN
METHOD:PUBLISH
BEGIN:VEVENT
UID:69e740c62ca09
DTSTAMP:20260421T091758Z
DTSTART:20251011T080000Z
DTEND:20251011T140000Z
LOCATION:
SUMMARY:Kinder- und Jugend-Schnellturnier 2025 Bargteheide
DESCRIPTION:Kinder- und Jugend-Schnellturnier 2025 Bargteheide\nhttps://sch
 achnewsletter-bremen.de/events/kinder-und-jugend-schnellturnier-2025-bargte
 heide/
URL:https://schachnewsletter-bremen.de/events/kinder-und-jugend-schnellturnier-2025-bargteheide/
END:VEVENT
END:VCALENDAR