BEGIN:VCALENDAR
VERSION:2.0
PRODID:-//eventon.com NONSGML v1.0//EN
CALSCALE:GREGORIAN
METHOD:PUBLISH
BEGIN:VEVENT
UID:69e742011da7c
DTSTAMP:20260421T092313Z
DTSTART:20260501T090000Z
DTEND:20260501T123000Z
LOCATION:
SUMMARY:Offene Niedersächsische Frauenschnellschachmeisterschaft 2026
DESCRIPTION:Offene Niedersächsische Frauenschnellschachmeisterschaft 2026\
 nhttps://schachnewsletter-bremen.de/events/offene-niedersaechsische-frauens
 chnellschachmeisterschaft-2026/
URL:https://schachnewsletter-bremen.de/events/offene-niedersaechsische-frauenschnellschachmeisterschaft-2026/
END:VEVENT
END:VCALENDAR