BEGIN:VCALENDAR
VERSION:2.0
PRODID:-//eventon.com NONSGML v1.0//EN
CALSCALE:GREGORIAN
METHOD:PUBLISH
BEGIN:VEVENT
UID:69e7418d29c7a
DTSTAMP:20260421T092117Z
DTSTART:20260806T163000Z
DTEND:20260809T180000Z
LOCATION:
SUMMARY:5. Kurt Pape-Open in Bad Pyrmont
DESCRIPTION:5. Kurt Pape-Open in Bad Pyrmont\nhttps://schachnewsletter-brem
 en.de/events/5-kurt-pape-open-in-bad-pyrmont/
URL:https://schachnewsletter-bremen.de/events/5-kurt-pape-open-in-bad-pyrmont/
END:VEVENT
END:VCALENDAR