BEGIN:VCALENDAR
VERSION:2.0
PRODID:-//eventon.com NONSGML v1.0//EN
CALSCALE:GREGORIAN
METHOD:PUBLISH
BEGIN:VEVENT
UID:69e74154d8571
DTSTAMP:20260421T092020Z
DTSTART:20260501T080000Z
DTEND:20260501T150000Z
LOCATION:
SUMMARY:Classic Open Stolzenau
DESCRIPTION:Classic Open Stolzenau\nhttps://schachnewsletter-bremen.de/even
 ts/classic-open-stolzenau-save-the-date/
URL:https://schachnewsletter-bremen.de/events/classic-open-stolzenau-save-the-date/
END:VEVENT
END:VCALENDAR