BEGIN:VCALENDAR
VERSION:2.0
PRODID:-//eventon.com NONSGML v1.0//EN
CALSCALE:GREGORIAN
METHOD:PUBLISH
BEGIN:VEVENT
UID:69e7419e6eda4
DTSTAMP:20260421T092134Z
DTSTART:20260802T110000Z
DTEND:20260807T110000Z
LOCATION:
SUMMARY:Schachcamp der Niedersächsischen Schachjugend in Verden
DESCRIPTION:Schachcamp der Niedersächsischen Schachjugend in Verden\nhttps
 ://schachnewsletter-bremen.de/events/schachcamp-der-niedersaechsischen-scha
 chjugend-in-verden/
URL:https://schachnewsletter-bremen.de/events/schachcamp-der-niedersaechsischen-schachjugend-in-verden/
END:VEVENT
END:VCALENDAR