BEGIN:VCALENDAR
VERSION:2.0
PRODID:-//eventon.com NONSGML v1.0//EN
CALSCALE:GREGORIAN
METHOD:PUBLISH
BEGIN:VEVENT
UID:69e744f9c20e9
DTSTAMP:20260421T093553Z
DTSTART:20260320T083000Z
DTEND:20260322T143000Z
LOCATION:
SUMMARY:Regionales Kinderschachturnier (RKST) in Hamburg - Qualifikationsturnier zur DEM U8
DESCRIPTION:Regionales Kinderschachturnier (RKST) in Hamburg - Qualifikatio
 nsturnier zur DEM U8\nhttps://schachnewsletter-bremen.de/events/regionales-
 kinderschachturnier-rkst-in-hamburg-qualifikationsturnier-zur-dem-u8/
URL:https://schachnewsletter-bremen.de/events/regionales-kinderschachturnier-rkst-in-hamburg-qualifikationsturnier-zur-dem-u8/
END:VEVENT
END:VCALENDAR