BEGIN:VCALENDAR
VERSION:2.0
PRODID:-//eventon.com NONSGML v1.0//EN
CALSCALE:GREGORIAN
METHOD:PUBLISH
BEGIN:VEVENT
UID:69e740e35fcde
DTSTAMP:20260421T091827Z
DTSTART:20260523T080000Z
DTEND:20260531T150000Z
LOCATION:
SUMMARY:Offene Deutsche Jugendeinzelmeisterschaften in Willingen
DESCRIPTION:Offene Deutsche Jugendeinzelmeisterschaften in Willingen\nhttps
 ://schachnewsletter-bremen.de/events/offene-deutsche-jugendeinzelmeistersch
 aften-in-willingen/
URL:https://schachnewsletter-bremen.de/events/offene-deutsche-jugendeinzelmeisterschaften-in-willingen/
END:VEVENT
END:VCALENDAR