BEGIN:VCALENDAR
VERSION:2.0
PRODID:-//eventon.com NONSGML v1.0//EN
CALSCALE:GREGORIAN
METHOD:PUBLISH
BEGIN:VEVENT
UID:69e740f0194e9
DTSTAMP:20260421T091840Z
DTSTART:20260430T130000Z
DTEND:20260503T130000Z
LOCATION:
SUMMARY:Deutsche Schulschachmeisterschaft WK III (U15) in Aurich
DESCRIPTION:Deutsche Schulschachmeisterschaft WK III (U15) in Aurich\nhttps
 ://schachnewsletter-bremen.de/events/deutsche-schulschachmeisterschaft-wk-i
 ii-u15-in-aurich-2/
URL:https://schachnewsletter-bremen.de/events/deutsche-schulschachmeisterschaft-wk-iii-u15-in-aurich-2/
END:VEVENT
END:VCALENDAR