BEGIN:VCALENDAR
VERSION:2.0
PRODID:-//eventon.com NONSGML v1.0//EN
CALSCALE:GREGORIAN
METHOD:PUBLISH
BEGIN:VEVENT
UID:69e740a1a4958
DTSTAMP:20260421T091721Z
DTSTART:20260501T130000Z
DTEND:20260504T130000Z
LOCATION:
SUMMARY:Deutsche Schulschachmeisterschaft WK HR in Osnabrück
DESCRIPTION:Deutsche Schulschachmeisterschaft WK HR in Osnabrück\nhttps://
 schachnewsletter-bremen.de/events/deutsche-schulschachmeisterschaft-wk-hr-i
 n-osnabrueck-2/
URL:https://schachnewsletter-bremen.de/events/deutsche-schulschachmeisterschaft-wk-hr-in-osnabrueck-2/
END:VEVENT
END:VCALENDAR