BEGIN:VCALENDAR
VERSION:2.0
PRODID:-//eventon.com NONSGML v1.0//EN
CALSCALE:GREGORIAN
METHOD:PUBLISH
BEGIN:VEVENT
UID:69e740c5165f2
DTSTAMP:20260421T091757Z
DTSTART:20260517T130000Z
DTEND:20260520T130000Z
LOCATION:
SUMMARY:Deutsche Schulschachmeisterschaft WK II (U18) in Willingen
DESCRIPTION:Deutsche Schulschachmeisterschaft WK II (U18) in Willingen\nhtt
 ps://schachnewsletter-bremen.de/events/deutsche-schulschachmeisterschaft-wk
 -ii-u18-in-willingen/
URL:https://schachnewsletter-bremen.de/events/deutsche-schulschachmeisterschaft-wk-ii-u18-in-willingen/
END:VEVENT
END:VCALENDAR