BEGIN:VCALENDAR
VERSION:2.0
PRODID:-//eventon.com NONSGML v1.0//EN
CALSCALE:GREGORIAN
METHOD:PUBLISH
BEGIN:VEVENT
UID:69e74169e93c7
DTSTAMP:20260421T092041Z
DTSTART:20260517T130000Z
DTEND:20260520T130000Z
LOCATION:
SUMMARY:Deutsche Schulschachmeisterschaft WK G (Grundschule) in Willingen
DESCRIPTION:Deutsche Schulschachmeisterschaft WK G (Grundschule) in Willing
 en\nhttps://schachnewsletter-bremen.de/events/deutsche-schulschachmeistersc
 haft-wk-g-grundschule-in-willingen-2/
URL:https://schachnewsletter-bremen.de/events/deutsche-schulschachmeisterschaft-wk-g-grundschule-in-willingen-2/
END:VEVENT
END:VCALENDAR