BEGIN:VCALENDAR
VERSION:2.0
PRODID:-//eventon.com NONSGML v1.0//EN
CALSCALE:GREGORIAN
METHOD:PUBLISH
BEGIN:VEVENT
UID:69e7413b930d1
DTSTAMP:20260421T091955Z
DTSTART:20260619T130000Z
DTEND:20260622T130000Z
LOCATION:
SUMMARY:Deutsche Schulschachmeisterschaft WK G M (Schülerinnen der Grundschule) in Osnabrück
DESCRIPTION:Deutsche Schulschachmeisterschaft WK G M (Schülerinnen der Gru
 ndschule) in Osnabrück\nhttps://schachnewsletter-bremen.de/events/deutsche
 -schulschachmeisterschaft-wk-g-m-schuelerinnen-der-grundschule-in-osnabruec
 k-2/
URL:https://schachnewsletter-bremen.de/events/deutsche-schulschachmeisterschaft-wk-g-m-schuelerinnen-der-grundschule-in-osnabrueck-2/
END:VEVENT
END:VCALENDAR