BEGIN:VCALENDAR
VERSION:2.0
PRODID:-//eventon.com NONSGML v1.0//EN
CALSCALE:GREGORIAN
METHOD:PUBLISH
BEGIN:VEVENT
UID:69e74154931c0
DTSTAMP:20260421T092020Z
DTSTART:20260723T080000Z
DTEND:20260726T160000Z
LOCATION:
SUMMARY:Deutsche Schach-Amateur-Meisterschaft 25/26 Finale
DESCRIPTION:Deutsche Schach-Amateur-Meisterschaft 25/26 Finale\nhttps://sch
 achnewsletter-bremen.de/events/deutsche-schach-amateur-meisterschaft-25-26-
 finale-save-the-date/
URL:https://schachnewsletter-bremen.de/events/deutsche-schach-amateur-meisterschaft-25-26-finale-save-the-date/
END:VEVENT
END:VCALENDAR