BEGIN:VCALENDAR
VERSION:2.0
PRODID:-//eventon.com NONSGML v1.0//EN
CALSCALE:GREGORIAN
METHOD:PUBLISH
BEGIN:VEVENT
UID:69e744a3cbf31
DTSTAMP:20260421T093427Z
DTSTART:20260401T143000Z
DTEND:20260404T163000Z
LOCATION:
SUMMARY:40. Äskulap-Open in Görlitz
DESCRIPTION:40. Äskulap-Open in Görlitz\nhttps://schachnewsletter-bremen.
 de/events/39-aeskulap-open-in-goerlitz-copy/
URL:https://schachnewsletter-bremen.de/events/39-aeskulap-open-in-goerlitz-copy/
END:VEVENT
END:VCALENDAR