BEGIN:VCALENDAR
VERSION:2.0
PRODID:-//eventon.com NONSGML v1.0//EN
CALSCALE:GREGORIAN
METHOD:PUBLISH
BEGIN:VEVENT
UID:69e741549b18c
DTSTAMP:20260421T092020Z
DTSTART:20260705T080000Z
DTEND:20260705T190000Z
LOCATION:
SUMMARY:ELO-Turnier-Serie 2026 (Lübeck)
DESCRIPTION:ELO-Turnier-Serie 2026 (Lübeck)\nhttps://schachnewsletter-brem
 en.de/events/elo-turnier-serie-2026-luebeck-2/
URL:https://schachnewsletter-bremen.de/events/elo-turnier-serie-2026-luebeck-2/
END:VEVENT
END:VCALENDAR