BEGIN:VCALENDAR
VERSION:2.0
PRODID:-//eventon.com NONSGML v1.0//EN
CALSCALE:GREGORIAN
METHOD:PUBLISH
BEGIN:VEVENT
UID:69e7412f1a16e
DTSTAMP:20260421T091943Z
DTSTART:20260420T120000Z
DTEND:20260425T130000Z
LOCATION:
SUMMARY:Niedersächsische Senioren- Schacheinzelmeisterschaft 2026
DESCRIPTION:Niedersächsische Senioren- Schacheinzelmeisterschaft 2026\nhtt
 ps://schachnewsletter-bremen.de/events/niedersaechsische-senioren-schachein
 zelmeisterschaft-2026/
URL:https://schachnewsletter-bremen.de/events/niedersaechsische-senioren-schacheinzelmeisterschaft-2026/
END:VEVENT
END:VCALENDAR