BEGIN:VCALENDAR
VERSION:2.0
PRODID:-//eventon.com NONSGML v1.0//EN
CALSCALE:GREGORIAN
METHOD:PUBLISH
BEGIN:VEVENT
UID:69e7412f19f3a
DTSTAMP:20260421T091943Z
DTSTART:20260423T173000Z
DTEND:20260425T200000Z
LOCATION:
SUMMARY:Bundesliga-Blitzturnier des Niedersächsischen Schachverbands
DESCRIPTION:Bundesliga-Blitzturnier des Niedersächsischen Schachverbands\n
 https://schachnewsletter-bremen.de/events/bundesliga-blitzturnier-des-niede
 rsaechsischen-schachverbands/
URL:https://schachnewsletter-bremen.de/events/bundesliga-blitzturnier-des-niedersaechsischen-schachverbands/
END:VEVENT
END:VCALENDAR