BEGIN:VCALENDAR
VERSION:2.0
PRODID:-//eventon.com NONSGML v1.0//EN
CALSCALE:GREGORIAN
METHOD:PUBLISH
BEGIN:VEVENT
UID:69e741304c789
DTSTAMP:20260421T091944Z
DTSTART:20260425T090000Z
DTEND:20260425T163000Z
LOCATION:
SUMMARY:Burkhard-Mentz-Memorial 2026 in Bremen Findorff - Schnellschach
DESCRIPTION:Burkhard-Mentz-Memorial 2026 in Bremen Findorff - Schnellschach
 \nhttps://schachnewsletter-bremen.de/events/burkhard-mentz-memorial-2026-in
 -bremen-findorff-schnellschach/
URL:https://schachnewsletter-bremen.de/events/burkhard-mentz-memorial-2026-in-bremen-findorff-schnellschach/
END:VEVENT
END:VCALENDAR