BEGIN:VCALENDAR
VERSION:2.0
PRODID:-//eventon.com NONSGML v1.0//EN
CALSCALE:GREGORIAN
METHOD:PUBLISH
BEGIN:VEVENT
UID:69e7412fc8157
DTSTAMP:20260421T091943Z
DTSTART:20260501T074500Z
DTEND:20260501T150000Z
LOCATION:
SUMMARY:27. Schnellschachturnier Gliesmarode
DESCRIPTION:27. Schnellschachturnier Gliesmarode\nhttps://schachnewsletter-
 bremen.de/events/27-schnellschachturnier-gliesmarode/
URL:https://schachnewsletter-bremen.de/events/27-schnellschachturnier-gliesmarode/
END:VEVENT
END:VCALENDAR