BEGIN:VCALENDAR
VERSION:2.0
PRODID:-//eventon.com NONSGML v1.0//EN
CALSCALE:GREGORIAN
METHOD:PUBLISH
BEGIN:VEVENT
UID:69e7418c95652
DTSTAMP:20260421T092116Z
DTSTART:20260514T073000Z
DTEND:20260517T113000Z
LOCATION:
SUMMARY:44. Wilhelm-Werner-Gedächtnis-Turnier in Bad Salzdetfurth
DESCRIPTION:44. Wilhelm-Werner-Gedächtnis-Turnier in Bad Salzdetfurth\nhtt
 ps://schachnewsletter-bremen.de/events/43-wilhelm-werner-gedaechtnis-turnie
 r-in-bad-salzdetfurth-copy/
URL:https://schachnewsletter-bremen.de/events/43-wilhelm-werner-gedaechtnis-turnier-in-bad-salzdetfurth-copy/
END:VEVENT
END:VCALENDAR