BEGIN:VCALENDAR
VERSION:2.0
PRODID:-//eventon.com NONSGML v1.0//EN
CALSCALE:GREGORIAN
METHOD:PUBLISH
BEGIN:VEVENT
UID:69e740f08979c
DTSTAMP:20260421T091840Z
DTSTART:20260627T090000Z
DTEND:20260627T150000Z
LOCATION:
SUMMARY:Offene Niedersächsische Landeseinzelmeisterschaft im Schach960 (Freestyle Chess) in Bad Salzdetfurth
DESCRIPTION:Offene Niedersächsische Landeseinzelmeisterschaft im Schach960
  (Freestyle Chess) in Bad Salzdetfurth\nhttps://schachnewsletter-bremen.de/
 events/offene-niedersaechsische-landeseinzelmeisterschaft-im-schach960-free
 style-chess-in-bad-salzdetfurth/
URL:https://schachnewsletter-bremen.de/events/offene-niedersaechsische-landeseinzelmeisterschaft-im-schach960-freestyle-chess-in-bad-salzdetfurth/
END:VEVENT
END:VCALENDAR