BEGIN:VCALENDAR
VERSION:2.0
PRODID:-//eventon.com NONSGML v1.0//EN
CALSCALE:GREGORIAN
METHOD:PUBLISH
BEGIN:VEVENT
UID:69e740fd53bc8
DTSTAMP:20260421T091853Z
DTSTART:20260529T160000Z
DTEND:20260531T180000Z
LOCATION:
SUMMARY:Wieste-Cup 2026 in Sottrum
DESCRIPTION:Wieste-Cup 2026 in Sottrum\nhttps://schachnewsletter-bremen.de/
 events/wieste-cup-2026-in-sottrum/
URL:https://schachnewsletter-bremen.de/events/wieste-cup-2026-in-sottrum/
END:VEVENT
END:VCALENDAR