BEGIN:VCALENDAR
VERSION:2.0
PRODID:-//eventon.com NONSGML v1.0//EN
CALSCALE:GREGORIAN
METHOD:PUBLISH
BEGIN:VEVENT
UID:69e741cc2db9a
DTSTAMP:20260421T092220Z
DTSTART:20260530T073000Z
DTEND:20260530T180000Z
LOCATION:
SUMMARY:3. Schöninger Open 2026
DESCRIPTION:Schnellschach\nhttps://schachnewsletter-bremen.de/events/3-scho
 eninger-open-2026/
URL:https://schachnewsletter-bremen.de/events/3-schoeninger-open-2026/
END:VEVENT
END:VCALENDAR