BEGIN:VCALENDAR
VERSION:2.0
PRODID:-//eventon.com NONSGML v1.0//EN
CALSCALE:GREGORIAN
METHOD:PUBLISH
BEGIN:VEVENT
UID:69e740e458da8
DTSTAMP:20260421T091828Z
DTSTART:20260604T080000Z
DTEND:20260607T140000Z
LOCATION:
SUMMARY:42. Turm-Open in Lippstadt
DESCRIPTION:42. Turm-Open in Lippstadt\nhttps://schachnewsletter-bremen.de/
 events/42-turm-open-in-lippstadt/
URL:https://schachnewsletter-bremen.de/events/42-turm-open-in-lippstadt/
END:VEVENT
END:VCALENDAR