BEGIN:VCALENDAR
VERSION:2.0
PRODID:-//eventon.com NONSGML v1.0//EN
CALSCALE:GREGORIAN
METHOD:PUBLISH
BEGIN:VEVENT
UID:69e7413c3c165
DTSTAMP:20260421T091956Z
DTSTART:20260720T110000Z
DTEND:20260726T140000Z
LOCATION:
SUMMARY:3. Lehrter Comitec-Open
DESCRIPTION:3. Lehrter Comitec-Open\nhttps://schachnewsletter-bremen.de/eve
 nts/3-lehrter-comitec-open/
URL:https://schachnewsletter-bremen.de/events/3-lehrter-comitec-open/
END:VEVENT
END:VCALENDAR