BEGIN:VCALENDAR
VERSION:2.0
PRODID:-//eventon.com NONSGML v1.0//EN
CALSCALE:GREGORIAN
METHOD:PUBLISH
BEGIN:VEVENT
UID:69e740a25f195
DTSTAMP:20260421T091722Z
DTSTART:20260821T160000Z
DTEND:20260823T170000Z
LOCATION:
SUMMARY:20. Lessing-Open Wolfenbüttel
DESCRIPTION:20. Lessing-Open Wolfenbüttel\nhttps://schachnewsletter-bremen
 .de/events/20-lessing-open-wolfenbuettel/
URL:https://schachnewsletter-bremen.de/events/20-lessing-open-wolfenbuettel/
END:VEVENT
END:VCALENDAR