BEGIN:VCALENDAR
VERSION:2.0
PRODID:-//eventon.com NONSGML v1.0//EN
CALSCALE:GREGORIAN
METHOD:PUBLISH
BEGIN:VEVENT
UID:69e741dc1571b
DTSTAMP:20260421T092236Z
DTSTART:20260606T080000Z
DTEND:20260606T143000Z
LOCATION:
SUMMARY:Jugendserie in Braunschweig
DESCRIPTION:Jugendserie in Braunschweig\nhttps://schachnewsletter-bremen.de
 /events/jugendserie-in-braunschweig-3/
URL:https://schachnewsletter-bremen.de/events/jugendserie-in-braunschweig-3/
END:VEVENT
END:VCALENDAR