BEGIN:VCALENDAR
VERSION:2.0
PRODID:-//eventon.com NONSGML v1.0//EN
CALSCALE:GREGORIAN
METHOD:PUBLISH
BEGIN:VEVENT
UID:69e741dad4e29
DTSTAMP:20260421T092234Z
DTSTART:20260729T130000Z
DTEND:20260807T130000Z
LOCATION:
SUMMARY:VI. Deutsch-Polnisches Schachcamp für Jugendliche in Darłowo\,  Polen
DESCRIPTION:VI. Deutsch-Polnisches Schachcamp für Jugendliche in Darłowo\
 ,  Polen\nhttps://schachnewsletter-bremen.de/events/vi-deutsch-polnisches-s
 chachcamp-fuer-jugendliche-in-darlowo-polen/
URL:https://schachnewsletter-bremen.de/events/vi-deutsch-polnisches-schachcamp-fuer-jugendliche-in-darlowo-polen/
END:VEVENT
END:VCALENDAR