BEGIN:VCALENDAR
VERSION:2.0
PRODID:-//eventon.com NONSGML v1.0//EN
CALSCALE:GREGORIAN
METHOD:PUBLISH
BEGIN:VEVENT
UID:69e74169e9624
DTSTAMP:20260421T092041Z
DTSTART:20260801T080000Z
DTEND:20260809T130000Z
LOCATION:
SUMMARY:39. Salzburger Sonnenterrasse Schach-Open
DESCRIPTION:39. Salzburger Sonnenterrasse Schach-Open\nhttps://schachnewsle
 tter-bremen.de/events/39-salzburger-sonnenterrasse-schach-open/
URL:https://schachnewsletter-bremen.de/events/39-salzburger-sonnenterrasse-schach-open/
END:VEVENT
END:VCALENDAR