BEGIN:VCALENDAR
VERSION:2.0
PRODID:-//eventon.com NONSGML v1.0//EN
CALSCALE:GREGORIAN
METHOD:PUBLISH
BEGIN:VEVENT
UID:69e7418c8e2ab
DTSTAMP:20260421T092116Z
DTSTART:20260716T083000Z
DTEND:20260802T083000Z
LOCATION:
SUMMARY:Czech Open 2026 in Pardubice - mehrere Turniere in dem Zeitraum
DESCRIPTION:Czech Open 2026 in Pardubice - mehrere Turniere in dem Zeitraum
 \nhttps://schachnewsletter-bremen.de/events/czech-open-2026-in-pardubice-me
 hrere-turniere-in-dem-zeitraum/
URL:https://schachnewsletter-bremen.de/events/czech-open-2026-in-pardubice-mehrere-turniere-in-dem-zeitraum/
END:VEVENT
END:VCALENDAR