BEGIN:VCALENDAR
VERSION:2.0
PRODID:-//eventon.com NONSGML v1.0//EN
CALSCALE:GREGORIAN
METHOD:PUBLISH
BEGIN:VEVENT
UID:69e741cd059f9
DTSTAMP:20260421T092221Z
DTSTART:20260801T160000Z
DTEND:20260808T160000Z
LOCATION:
SUMMARY:Scheldemond Schachturnier in Vlissingen\,  Niederlande
DESCRIPTION:Scheldemond Schachturnier in Vlissingen\,  Niederlande\nhttps:/
 /schachnewsletter-bremen.de/events/scheldemond-schaaktoernooi-in-vlissingen
 -niederlande/
URL:https://schachnewsletter-bremen.de/events/scheldemond-schaaktoernooi-in-vlissingen-niederlande/
END:VEVENT
END:VCALENDAR