BEGIN:VCALENDAR
VERSION:2.0
PRODID:-//eventon.com NONSGML v1.0//EN
CALSCALE:GREGORIAN
METHOD:PUBLISH
BEGIN:VEVENT
UID:69e740a1a5d1c
DTSTAMP:20260421T091721Z
DTSTART:20260807T140000Z
DTEND:20260815T140000Z
LOCATION:
SUMMARY:Prager Sommer Open 2026
DESCRIPTION:Prager Sommer Open 2026\nhttps://schachnewsletter-bremen.de/eve
 nts/summer-prague-open-v2026/
URL:https://schachnewsletter-bremen.de/events/summer-prague-open-v2026/
END:VEVENT
END:VCALENDAR