BEGIN:VCALENDAR
VERSION:2.0
PRODID:-//eventon.com NONSGML v1.0//EN
CALSCALE:GREGORIAN
METHOD:PUBLISH
BEGIN:VEVENT
UID:69e742002a259
DTSTAMP:20260421T092312Z
DTSTART:20260704T140000Z
DTEND:20260710T143000Z
LOCATION:
SUMMARY:La Plagne International Chess Festival 2026
DESCRIPTION:La Plagne International Chess Festival 2026\nhttps://schachnews
 letter-bremen.de/events/la-plagne-international-chess-festival-2026/
URL:https://schachnewsletter-bremen.de/events/la-plagne-international-chess-festival-2026/
END:VEVENT
END:VCALENDAR