BEGIN:VCALENDAR
VERSION:2.0
PRODID:-//eventon.com NONSGML v1.0//EN
CALSCALE:GREGORIAN
METHOD:PUBLISH
BEGIN:VEVENT
UID:69e741cc2b9f9
DTSTAMP:20260421T092220Z
DTSTART:20260627T080000Z
DTEND:20260627T160000Z
LOCATION:
SUMMARY:38. Offene Buxtehuder Schach - Stadtmeisterschaft
DESCRIPTION:38. Offene Buxtehuder Schach - Stadtmeisterschaft\nhttps://scha
 chnewsletter-bremen.de/events/38-offene-buxtehuder-schach-stadtmeisterschaf
 t/
URL:https://schachnewsletter-bremen.de/events/38-offene-buxtehuder-schach-stadtmeisterschaft/
END:VEVENT
END:VCALENDAR